BEGIN:VCALENDAR
VERSION:2.0
PRODID:-//Indian Jungle Safari - ECPv6.2.6//NONSGML v1.0//EN
CALSCALE:GREGORIAN
METHOD:PUBLISH
X-WR-CALNAME:Indian Jungle Safari
X-ORIGINAL-URL:https://indianjunglesafari.com
X-WR-CALDESC:Events for Indian Jungle Safari
REFRESH-INTERVAL;VALUE=DURATION:PT1H
X-Robots-Tag:noindex
X-PUBLISHED-TTL:PT1H
BEGIN:VTIMEZONE
TZID:UTC
BEGIN:STANDARD
TZOFFSETFROM:+0000
TZOFFSETTO:+0000
TZNAME:UTC
DTSTART:20230101T000000
END:STANDARD
END:VTIMEZONE
BEGIN:VEVENT
DTSTART;TZID=UTC:20231201T100000
DTEND;TZID=UTC:20261216T173000
DTSTAMP:20260420T065629
CREATED:20180413T035232Z
LAST-MODIFIED:20190607T060636Z
UID:288-1701424800-1797442200@indianjunglesafari.com
SUMMARY:Party for the Planet
DESCRIPTION:Ut wisi enim ad minim veniam\, quis nostrud exerci tation ul lamcorper suscipit lobortis nisl ut aliquip ex ea commodo con sequat. Duis autem vel eum iriure dolor in hendrerit in vulpu tate velit esse molestie consequat\, vel illum dolore eu feugiat nulla facilisis at vero eros et accumsan et iusto odio dignissim qui blandit praesent luptatum zzril delenit augue duis dolore te feugait nulla facilisi. \nDolor in hendrerit in vulputate velit esse molestie consequat\, vel illum dolore eu feugiat nulla facilisis at vero eros et accum san et iusto odio dignissim qui blandit praesent luptatum zzril delenit augue duis dolore te feugait nulla facilisi.
URL:https://indianjunglesafari.com/event/party-for-the-planet/
LOCATION:Bonko Zoo\, 167 Cathedral Ave\, Hempstead\, NY\, 11550\, United States
ATTACH;FMTTYPE=image/jpeg:https://indianjunglesafari.com/wp-content/uploads/2018/04/blog-12-copyright-min.jpg
END:VEVENT
BEGIN:VEVENT
DTSTART;TZID=UTC:20231204T203000
DTEND;TZID=UTC:20261230T060000
DTSTAMP:20260420T065629
CREATED:20180413T033124Z
LAST-MODIFIED:20230711T044109Z
UID:278-1701721800-1798610400@indianjunglesafari.com
SUMMARY:Night at the Zoo
DESCRIPTION:Ut wisi enim ad minim veniam\, quis nostrud exerci tation ul lamcorper suscipit lobortis nisl ut aliquip ex ea commodo con sequat. Duis autem vel eum iriure dolor in hendrerit in vulpu tate velit esse molestie consequat\, vel illum dolore eu feugiat nulla facilisis at vero eros et accumsan et iusto odio dignissim qui blandit praesent luptatum zzril delenit augue duis dolore te feugait nulla facilisi. \nDolor in hendrerit in vulputate velit esse molestie consequat\, vel illum dolore eu feugiat nulla facilisis at vero eros et accum san et iusto odio dignissim qui blandit praesent luptatum zzril delenit augue duis dolore te feugait nulla facilisi.
URL:https://indianjunglesafari.com/event/night-at-the-zoo/
LOCATION:Bonko Zoo\, 167 Cathedral Ave\, Hempstead\, NY\, 11550\, United States
ATTACH;FMTTYPE=image/jpeg:https://indianjunglesafari.com/wp-content/uploads/2018/04/blog-9-copyright-min.jpg
END:VEVENT
BEGIN:VEVENT
DTSTART;TZID=UTC:20231227T090000
DTEND;TZID=UTC:20280202T113000
DTSTAMP:20260420T065629
CREATED:20180413T035448Z
LAST-MODIFIED:20230711T044115Z
UID:290-1703667600-1833103800@indianjunglesafari.com
SUMMARY:Breakfast with the Bunny
DESCRIPTION:Ut wisi enim ad minim veniam\, quis nostrud exerci tation ul lamcorper suscipit lobortis nisl ut aliquip ex ea commodo con sequat. Duis autem vel eum iriure dolor in hendrerit in vulpu tate velit esse molestie consequat\, vel illum dolore eu feugiat nulla facilisis at vero eros et accumsan et iusto odio dignissim qui blandit praesent luptatum zzril delenit augue duis dolore te feugait nulla facilisi. \nDolor in hendrerit in vulputate velit esse molestie consequat\, vel illum dolore eu feugiat.
URL:https://indianjunglesafari.com/event/breakfast-with-the-bunny/
LOCATION:Bonko Zoo\, 167 Cathedral Ave\, Hempstead\, NY\, 11550\, United States
ATTACH;FMTTYPE=image/jpeg:https://indianjunglesafari.com/wp-content/uploads/2018/04/blog-10-copyright-min.jpg
END:VEVENT
END:VCALENDAR